BEGIN:VCALENDAR
VERSION:2.0
PRODID:-//SVP Jegenstorf-Münchringen //NONSGML Events //EN
CALSCALE:GREGORIAN
X-WR-CALNAME:SVP Jegenstorf-Münchringen
BEGIN:VEVENT
CREATED:20230824T170724Z
UID:1207
DTEND:20260606T110000
DTSTART:20260606T084500
DTSTAMP:20260420T023221Z
LOCATION:Kirchgemeindehaus
DESCRIPTION:
SUMMARY:Neuzuzüger-Apéro Jegenstorf
ORGANIZER:Gemeinde Jegenstorf
URL;VALUE=URI:https://www.svp-jegenstorf.ch/termine/svp-wahlauftakt/
TRANSP:OPAQUE
END:VEVENT
END:VCALENDAR
