BEGIN:VCALENDAR
VERSION:2.0
PRODID:-//SVP Jegenstorf-Münchringen //NONSGML Events //EN
CALSCALE:GREGORIAN
X-WR-CALNAME:SVP Jegenstorf-Münchringen
BEGIN:VEVENT
CREATED:20221125T124339Z
UID:1056
DTEND:20260528T220000
DTSTART:20260528T193000
DTSTAMP:20260420T023349Z
LOCATION:Chrutmatt-Beizli
DESCRIPTION:
SUMMARY:Vorstandssitzung Sektion Jegenstorf-Münchringen
ORGANIZER:
URL;VALUE=URI:https://www.svp-jegenstorf.ch/termine/vorstandssitzung/
TRANSP:OPAQUE
END:VEVENT
END:VCALENDAR
