BEGIN:VCALENDAR
VERSION:2.0
PRODID:-//SVP Jegenstorf-Münchringen //NONSGML Events //EN
CALSCALE:GREGORIAN
X-WR-CALNAME:SVP Jegenstorf-Münchringen
BEGIN:VEVENT
CREATED:20221125T121311Z
UID:1049
DTEND:20260812T210000
DTSTART:20260812T200000
DTSTAMP:20260420T035604Z
LOCATION:
DESCRIPTION:
SUMMARY:Delegiertenversammlung SVP Kanton Bern
ORGANIZER:
URL;VALUE=URI:https://www.svp-jegenstorf.ch/termine/delegiertenversammlung-svp-kanton-bern/
TRANSP:OPAQUE
END:VEVENT
END:VCALENDAR
