BEGIN:VCALENDAR
VERSION:2.0
PRODID:-//SVP Jegenstorf-Münchringen //NONSGML Events //EN
CALSCALE:GREGORIAN
X-WR-CALNAME:SVP Jegenstorf-Münchringen
BEGIN:VEVENT
CREATED:20221103T152045Z
UID:1032
DTEND:20260626T190000
DTSTART:20260626T180000
DTSTAMP:20260420T022925Z
LOCATION:Chrutmatt-Beizli
DESCRIPTION:
SUMMARY:Grillabend Vorstand
ORGANIZER:
URL;VALUE=URI:https://www.svp-jegenstorf.ch/termine/dorffest-2023/
TRANSP:OPAQUE
END:VEVENT
END:VCALENDAR
